BEGIN:VCALENDAR
VERSION:2.0
PRODID:-//hacksw/handcal//NONSGML v1.0//EN
BEGIN:VEVENT
DTSTAMP:20270220T003000Z
DTSTART:20270220T003000Z
DTEND:20270220T021500Z
SUMMARY:THE INTERNATIONAL AFRICAN ACROBATS
DESCRIPTION:THIS EVENT IS AT THE ROSE AND ALFRED MINIACI PERFORMING ARTS CENTER, AN AFFILIATED VENUE OF BROWARD CENTER FOR THE PERFORMING ARTS ON THE NOVA SOUTHEASTERN UNIVERSITY CAMPUS.Experience the Thrill of The International African Acrobats: A Spectacular Show! Be amazed as The International African Acrobats bring the vibrant energy of their cultural heritage. Renowned for their high-flying stunts, breathtaking acrobatics, music live on stage and captivating performances, they deliver a show like no other. As a testament to the spirit and resilience of their community, they showcase its rich traditions and creativity. Through their artistry, they invite you to experience the warmth and hospitality in a performance for the whole family.Parking is available in the NSU Alvin Sherman Library parking garage for $1.00 per hour via PayByPhone.com App or kiosk located at the 1st floor elevators. Before you go to the show, visit MiniaciPAC.com/visit for more info on directions to the NSU campus, parking and FAQ. Use 3051 Ray Ferrero Jr Blvd, Davie, FL 33314 in your map or GPS app.
END:VEVENT
END:VCALENDAR