BEGIN:VCALENDAR
VERSION:2.0
PRODID:-//hacksw/handcal//NONSGML v1.0//EN
BEGIN:VEVENT
DTSTAMP:20260507T230000Z
DTSTART:20260507T230000Z
DTEND:20260508T001500Z
SUMMARY:Roald Dahl's Willy Wonka JR.
DESCRIPTION:THIS EVENT IS AT THE ROSE & ALFRED MINIACI PERFORMING ARTS CENTER, AN AFFILIATED VENUE OF BROWARD CENTER FOR THE PERFORMING ARTS ON THE NOVA SOUTHEASTERN UNIVERSITY CAMPUS.Roald Dahl&#39;s Willy Wonka JR. is a 60-minute musical adaptation designed for young performers, following enigmatic candy maker Willy Wonka as he stages a contest to find an heir by hiding five Golden Tickets in his candy bars. The show features beloved songs from the 1971 film, including "Pure Imagination" and "The Candy Man," and showcases a mix of featured, ensemble, and singing/dancing Oompa Loompas.Parking is available in the NSU Alvin Sherman Library parking garage for $1.00 per hour via PayByPhone.com App or kiosk located at the 1st floor elevators. Before you go to the show, visit MiniaciPAC.com/visit for more info on directions to the NSU campus, parking and FAQ. Use 3051 Ray Ferrero Jr Blvd, Davie, FL 33314 in your map or GPS app.
END:VEVENT
END:VCALENDAR