BEGIN:VCALENDAR
VERSION:2.0
PRODID:-//hacksw/handcal//NONSGML v1.0//EN
BEGIN:VEVENT
DTSTAMP:20261129T000000Z
DTSTART:20261129T000000Z
DTEND:20261129T013000Z
SUMMARY:Swan Lake – Symphony of Lights
DESCRIPTION:THIS EVENT IS AT THE ROSE AND ALFRED MINIACI PERFORMING ARTS CENTER, AN AFFILIATED VENUE OF BROWARD CENTER FOR THE PERFORMING ARTS ON THE NOVA SOUTHEASTERN UNIVERSITY CAMPUS.Tchaikovsky’s classic ballet is reimagined with stunning light design, illuminated costumes, and world-class dancers from around the globe. The result is a powerful blend of music, movement, and visual artistry.Parking is available in the NSU Alvin Sherman Library parking garage for $1.00 per hour via PayByPhone.com App or kiosk located at the 1st floor elevators. Before you go to the show, visit MiniaciPAC.com/visit for more info on directions to the NSU campus, parking and FAQ. Use 3051 Ray Ferrero Jr Blvd, Davie, FL 33314 in your map or GPS app.
END:VEVENT
END:VCALENDAR